BEGIN:VCALENDAR
VERSION:2.0
PRODID:-//Squarespace Inc/Squarespace 6//v6//EN
BEGIN:VEVENT
UID:5ca2bfec7817f7538ebd1307@squarespace.com
DTSTAMP:20190402T020438Z
DTSTART:20190414T123000Z
DTEND:20190421T133000Z
SUMMARY:Holy Week Services
GEO:40.720756;-74.000761
LOCATION:St Francis College\, 233 Milton Road\, Milton\, QLD\, 4064\, Austr
 alia
END:VEVENT
END:VCALENDAR
