BEGIN:VCALENDAR
VERSION:2.0
PRODID:-//Squarespace Inc/Squarespace 6//v6//EN
BEGIN:VEVENT
UID:5cac0983f4e1fca21011008b@squarespace.com
DTSTAMP:20190409T030556Z
DTSTART:20190414T123000Z
DTEND:20190415T013000Z
SUMMARY:Walking the Walk 
GEO:-27.467416;153.003675
LOCATION:St Francis College\, 233 Milton Road\, Milton\, QLD\, 4064\, Austr
 alia
END:VEVENT
END:VCALENDAR
