BEGIN:VCALENDAR
VERSION:2.0
PRODID:-//Squarespace Inc/Squarespace 6//v6//EN
BEGIN:VEVENT
UID:5ca2b82515fcc094af9094a5@squarespace.com
DTSTAMP:20190402T011931Z
DTSTART:20190405T223000Z
DTEND:20190406T153000Z
SUMMARY:Faith and Climate Change
GEO:-27.467416;153.003675
LOCATION:St Francis College\, 233 Milton Road\, Milton\, QLD\, 4064\, Austr
 alia
END:VEVENT
END:VCALENDAR
