BEGIN:VCALENDAR
VERSION:2.0
PRODID:-//Squarespace Inc/Squarespace 6//v6//EN
BEGIN:VEVENT
UID:5ca69b0f1905f4d0b4d27cfe@squarespace.com
DTSTAMP:20190515T234611Z
DTSTART:20190523T180000Z
DTEND:20190523T200000Z
SUMMARY:SFC Research Seminar
GEO:40.69323;-73.992165
LOCATION:St Francis College\, 233 Milton Road\, Milton\, QLD\, 4064\, Austr
 alia
END:VEVENT
END:VCALENDAR
