BEGIN:VCALENDAR
VERSION:2.0
PRODID:-//Squarespace Inc/Squarespace 6//v6//EN
BEGIN:VEVENT
UID:5cb7c8636e9a7f63584b2338@squarespace.com
DTSTAMP:20190418T004805Z
DTSTART:20190504T150000Z
DTEND:20190504T180000Z
SUMMARY:World Labyrinth Day
GEO:-27.467416;153.003675
LOCATION:St Francis College\, 233 Milton Road\, Milton\, QLD\, 4064\, Austr
 alia
END:VEVENT
END:VCALENDAR
