BEGIN:VCALENDAR
VERSION:2.0
PRODID:-//Squarespace Inc/Squarespace 6//v6//EN
BEGIN:VEVENT
UID:5c9d635f9b747a461f3cf57e@squarespace.com
DTSTAMP:20190526T225130Z
DTSTART:20190607T230000Z
DTEND:20190608T010000Z
SUMMARY:David Clough - Wine &amp\; Cheese + Public Lecture
GEO:40.720756;-74.000761
LOCATION:St Francis College\, 233 Milton Road\, Milton\, QLD\, 4064\, Austr
 alia
END:VEVENT
END:VCALENDAR
