BEGIN:VCALENDAR
VERSION:2.0
PRODID:-//Squarespace Inc/Squarespace 6//v6//EN
BEGIN:VEVENT
UID:5c9c412de5e5f084947a7133@squarespace.com
DTSTAMP:20190328T033913Z
DTSTART:20190607T040000Z
DTEND:20190614T040000Z
SUMMARY:Wontulp-Bi-Buya Pilgimage
GEO:-27.467416;153.003675
LOCATION:St Francis College\, 233 Milton Road\, Milton\, QLD\, 4064\, Austr
 alia
END:VEVENT
END:VCALENDAR
