BEGIN:VCALENDAR
VERSION:2.0
PRODID:-//Squarespace Inc/Squarespace 6//v6//EN
BEGIN:VEVENT
UID:5cb7e05f104c7b27f18f9e12@squarespace.com
DTSTAMP:20190428T234522Z
DTSTART:20190719T230000Z
DTEND:20190720T010000Z
SUMMARY:John Walton - Wine &amp\; Cheese + Public Lecture
GEO:-27.467416;153.003675
LOCATION:St Francis College\, 233 Milton Road\, Milton\, QLD\, 4064\, Austr
 alia
END:VEVENT
END:VCALENDAR
