BEGIN:VCALENDAR
VERSION:2.0
PRODID:-//Squarespace Inc/Squarespace 6//v6//EN
BEGIN:VEVENT
UID:5cb7c95c4e17b61c913badd3@squarespace.com
DTSTAMP:20190418T005245Z
DTSTART:20190705T120000Z
DTEND:20190705T190000Z
SUMMARY:Senior Ichthus Registrations Open
GEO:-26.480556;153.095556
LOCATION:Glendalough\, Peregian Beach\, Queensland\, Australia
END:VEVENT
END:VCALENDAR
