BEGIN:VCALENDAR
VERSION:2.0
PRODID:-//Squarespace Inc/Squarespace 6//v6//EN
BEGIN:VEVENT
UID:5d22b430363b210001b385c2@squarespace.com
DTSTAMP:20190708T031410Z
DTSTART:20190707T180000Z
DTEND:20190719T112959Z
SUMMARY:Last Days to Enrol for Auditing Subjects
GEO:-27.467416;153.003675
LOCATION:St Francis College\, 233 Milton Road\, Milton\, QLD\, 4064\, Austr
 alia
END:VEVENT
END:VCALENDAR
