BEGIN:VCALENDAR
VERSION:2.0
PRODID:-//Squarespace Inc/Squarespace 6//v6//EN
BEGIN:VEVENT
UID:5d2406aacb08f70001bef4fc@squarespace.com
DTSTAMP:20190711T002144Z
DTSTART:20190709T181500Z
DTEND:20190722T210000Z
SUMMARY:Last chance to enrol for THL366 Christian Education
GEO:-27.467416;153.003675
LOCATION:St Francis College\, 233 Milton Road\, Milton\, QLD\, 4064\, Austr
 alia
END:VEVENT
END:VCALENDAR
