BEGIN:VCALENDAR
VERSION:2.0
PRODID:-//Squarespace Inc/Squarespace 6//v6//EN
BEGIN:VEVENT
UID:5d43a010e4b60a0001ef1a0f@squarespace.com
DTSTAMP:20190802T024654Z
DTSTART:20190816T230000Z
DTEND:20190817T010000Z
SUMMARY:2019 Felix Arnott Lecture
GEO:-27.467416;153.003675
LOCATION:St Francis College\, 233 Milton Road\, Milton\, QLD\, 4064\, Austr
 alia
END:VEVENT
END:VCALENDAR
