BEGIN:VCALENDAR
VERSION:2.0
PRODID:-//Squarespace Inc/Squarespace 6//v6//EN
BEGIN:VEVENT
UID:5c9d61ffe79c70c0954c7e0a@squarespace.com
DTSTAMP:20190405T000507Z
DTSTART:20190822T040000Z
DTEND:20190822T050000Z
SUMMARY:SFC Research Seminar
GEO:40.720756;-74.000761
LOCATION:St Francis College\, 233 Milton Road\, Milton\, QLD\, 4064\, Austr
 alia
END:VEVENT
END:VCALENDAR
