BEGIN:VCALENDAR
VERSION:2.0
PRODID:-//Squarespace Inc/Squarespace 6//v6//EN
BEGIN:VEVENT
UID:5d7add01e22fdd7505fd6b8e@squarespace.com
DTSTAMP:20190913T022910Z
DTSTART:20191012T140000Z
DTEND:20191013T200000Z
SUMMARY:Brisbane Open House
GEO:-27.467416;153.003675
LOCATION:St Francis College\, 233 Milton Road\, Milton\, QLD\, 4064\, Austr
 alia
END:VEVENT
END:VCALENDAR
