BEGIN:VCALENDAR
VERSION:2.0
PRODID:-//Squarespace Inc/Squarespace 6//v6//EN
BEGIN:VEVENT
UID:5d7adaa9e9a16f05390612e0@squarespace.com
DTSTAMP:20190913T000306Z
DTSTART:20190924T170000Z
DTEND:20190925T000000Z
SUMMARY:Shut Up and Write + Community BBQ
GEO:-27.467416;153.003675
LOCATION:St Francis College\, 233 Milton Road\, Milton\, QLD\, 4064\, Austr
 alia
END:VEVENT
END:VCALENDAR
