BEGIN:VCALENDAR
VERSION:2.0
PRODID:-//Squarespace Inc/Squarespace 6//v6//EN
BEGIN:VEVENT
UID:5d7adb97e9a16f0539061e25@squarespace.com
DTSTAMP:20190913T000359Z
DTSTART:20191004T163000Z
DTEND:20191004T180000Z
SUMMARY:St Francis Day Celebrations
GEO:-27.467416;153.003675
LOCATION:St Francis College\, 233 Milton Road\, Milton\, QLD\, 4064\, Austr
 alia
END:VEVENT
END:VCALENDAR
