BEGIN:VCALENDAR
VERSION:2.0
PRODID:-//Squarespace Inc/Squarespace 6//v6//EN
BEGIN:VEVENT
UID:5d7ade217bef8759c7aae3bf@squarespace.com
DTSTAMP:20190913T001213Z
DTSTART:20190929T123000Z
DTEND:20191004T193000Z
SUMMARY:Junior Ichthus Camp - Registrations Open
GEO:-28.248832;153.22498
LOCATION:Bornhoffen PCYC Leadership Development Centre\, 3510 Nerang Murwil
 lumbah Road\, Natural Bridge\, QLD\, 4211\, Australia
END:VEVENT
END:VCALENDAR
