BEGIN:VCALENDAR
VERSION:2.0
PRODID:-//Squarespace Inc/Squarespace 6//v6//EN
BEGIN:VEVENT
UID:5deda55dc2fab6555b27b7d2@squarespace.com
DTSTAMP:20191209T014125Z
DTSTART:20200120T140000Z
DTEND:20200122T220000Z
SUMMARY:Big Ideas - Young Adults Conference
GEO:-27.467416;153.003675
LOCATION:St Francis College\, 233 Milton Road\, Milton\, QLD\, 4064\, Austr
 alia
END:VEVENT
END:VCALENDAR
