BEGIN:VCALENDAR
VERSION:2.0
PRODID:-//Squarespace Inc/Squarespace 6//v6//EN
BEGIN:VEVENT
UID:5e12984b61066d7f81370461@squarespace.com
DTSTAMP:20200106T023254Z
DTSTART:20200130T220000Z
DTEND:20200131T000000Z
SUMMARY:Farewell Event for Stephen Clarke
GEO:-27.467416;153.003675
LOCATION:St Francis College\, 233 Milton Road\, Milton\, QLD\, 4064\, Austr
 alia
END:VEVENT
END:VCALENDAR
