BEGIN:VCALENDAR
VERSION:2.0
PRODID:-//Squarespace Inc/Squarespace 6//v6//EN
BEGIN:VEVENT
UID:5deda65bac43c868ac403d97@squarespace.com
DTSTAMP:20191209T014512Z
DTSTART:20200108T140000Z
DTEND:20200111T160000Z
SUMMARY:Primary Ichthus Camp
GEO:-27.467416;153.003675
LOCATION:St Francis College\, 233 Milton Road\, Milton\, QLD\, 4064\, Austr
 alia
END:VEVENT
END:VCALENDAR
