BEGIN:VCALENDAR
VERSION:2.0
PRODID:-//Squarespace Inc/Squarespace 6//v6//EN
BEGIN:VEVENT
UID:5f56d1d2fccd86693ebbc6af@squarespace.com
DTSTAMP:20200908T004113Z
DTSTART:20201116T140000Z
DTEND:20210119T020000Z
SUMMARY:New Subject - Ecological Theology (THL211)
GEO:-27.467416;153.003675
LOCATION:St Francis College\, 233 Milton Rd\, Brisbane\, Australia
END:VEVENT
END:VCALENDAR
