BEGIN:VCALENDAR
VERSION:2.0
PRODID:-//Squarespace Inc/Squarespace 6//v6//EN
BEGIN:VEVENT
UID:5f56d03b7d267772ff9a2a80@squarespace.com
DTSTAMP:20200908T003518Z
DTSTART:20201121T140000Z
DTEND:20210116T210000Z
SUMMARY:Anglican Foundations - Offered in Summer Semester 2020
GEO:-27.467416;153.003675
LOCATION:St Francis College\, 233 Milton Rd\, Brisbane\, Australia
END:VEVENT
END:VCALENDAR
