BEGIN:VCALENDAR
VERSION:2.0
PRODID:-//Squarespace Inc/Squarespace 6//v6//EN
BEGIN:VEVENT
UID:5fd2b6deac940e733bfadf1e@squarespace.com
DTSTAMP:20201211T000337Z
DTSTART:20201221T223000Z
DTEND:20201222T003000Z
SUMMARY:Christmas Campfire
GEO:-27.467416;153.003675
LOCATION:St Francis College\, 233 Milton Rd\, Brisbane\, Australia
END:VEVENT
END:VCALENDAR
