BEGIN:VCALENDAR
VERSION:2.0
PRODID:-//Squarespace Inc/Squarespace 6//v6//EN
BEGIN:VEVENT
UID:5fd2b5668c41fa00d6de8833@squarespace.com
DTSTAMP:20201210T235849Z
DTSTART:20201224T230000Z
DTEND:20210101T000000Z
SUMMARY:Christmas Services in the Chapel
GEO:-27.467416;153.003675
LOCATION:St Francis College\, 233 Milton Rd\, Brisbane\, Australia
END:VEVENT
END:VCALENDAR
