BEGIN:VCALENDAR
VERSION:2.0
PRODID:-//Squarespace Inc/Squarespace 6//v6//EN
BEGIN:VEVENT
UID:5e2a6838431d806f6885cd14@squarespace.com
DTSTAMP:20200124T040043Z
DTSTART:20200223T230000Z
DTEND:20200224T003000Z
SUMMARY:Invitation to 2020 Commencement Service
GEO:-27.467416;153.003675
LOCATION:St Francis College\, 233 Milton Rd\, Brisbane\, Australia
END:VEVENT
END:VCALENDAR
