BEGIN:VCALENDAR
VERSION:2.0
PRODID:-//Squarespace Inc/Squarespace 6//v6//EN
BEGIN:VEVENT
UID:5e379c3a0bbd940760569bd4@squarespace.com
DTSTAMP:20200203T040955Z
DTSTART:20200225T230000Z
DTEND:20200226T010000Z
SUMMARY:SFC Orientation Evening
GEO:-27.467416;153.003675
LOCATION:St Francis College\, 233 Milton Rd\, Brisbane\, Australia
END:VEVENT
END:VCALENDAR
