BEGIN:VCALENDAR
VERSION:2.0
PRODID:-//Squarespace Inc/Squarespace 6//v6//EN
BEGIN:VEVENT
UID:5e532dde9fa7880e2a642b39@squarespace.com
DTSTAMP:20200224T020007Z
DTSTART:20200226T173000Z
DTEND:20200226T183000Z
SUMMARY:Ash Wednesday Eucharist with Ashing
GEO:-27.467416;153.003675
LOCATION:St Francis College\, 233 Milton Rd\, Brisbane\, Australia
END:VEVENT
END:VCALENDAR
