BEGIN:VCALENDAR
VERSION:2.0
PRODID:-//Squarespace Inc/Squarespace 6//v6//EN
BEGIN:VEVENT
UID:5e24ec386810047965eb1e7f@squarespace.com
DTSTAMP:20200120T011409Z
DTSTART:20200227T000000Z
DTEND:20200227T020000Z
SUMMARY:Public Lecture: Dr Jay Sedwick
GEO:-27.467416;153.003675
LOCATION:St Francis College\, 233 Milton Rd\, Brisbane\, Australia
END:VEVENT
END:VCALENDAR
