BEGIN:VCALENDAR
VERSION:2.0
PRODID:-//Squarespace Inc/Squarespace 6//v6//EN
BEGIN:VEVENT
UID:5e128eea95a27273eb99bef1@squarespace.com
DTSTAMP:20200106T021516Z
DTSTART:20200207T000000Z
DTEND:20200207T020000Z
SUMMARY:David Neville Public Lecture
GEO:-27.467416;153.003675
LOCATION:St Francis College\, 233 Milton Road\, Milton\, QLD\, 4064\, Austr
 alia
END:VEVENT
END:VCALENDAR
