BEGIN:VCALENDAR
VERSION:2.0
PRODID:-//Squarespace Inc/Squarespace 6//v6//EN
BEGIN:VEVENT
UID:5e1d30b3b387c1091da2eeb3@squarespace.com
DTSTAMP:20200114T033357Z
DTSTART:20200312T180000Z
DTEND:20200312T200000Z
SUMMARY:Free Academic Writing Workshop
GEO:43.040611;-73.924845
LOCATION:St Francis College\, 233 Milton Rd\, Brisbane\, Australia
END:VEVENT
END:VCALENDAR
