BEGIN:VCALENDAR
VERSION:2.0
PRODID:-//Squarespace Inc/Squarespace 6//v6//EN
BEGIN:VEVENT
UID:5e58a91417f0c84742bea662@squarespace.com
DTSTAMP:20200228T070654Z
DTSTART:20200303T223000Z
DTEND:20200304T000000Z
SUMMARY:Damascus Book Chat
GEO:-27.467416;153.003675
LOCATION:St Francis College\, 233 Milton Rd\, Milton\, Australia
END:VEVENT
END:VCALENDAR
