BEGIN:VCALENDAR
VERSION:2.0
PRODID:-//Squarespace Inc/Squarespace 6//v6//EN
BEGIN:VEVENT
UID:5e4f4382eee36f21a081742f@squarespace.com
DTSTAMP:20200221T024559Z
DTSTART:20200307T200000Z
DTEND:20200307T220000Z
SUMMARY:Baroona Farm Official Launch
GEO:-27.467416;153.003675
LOCATION:St Francis College\, 233 Milton Rd\, Brisbane\, Australia
END:VEVENT
END:VCALENDAR
