BEGIN:VCALENDAR
VERSION:2.0
PRODID:-//Squarespace Inc/Squarespace 6//v6//EN
BEGIN:VEVENT
UID:5e5318eefe69f273e6f4c456@squarespace.com
DTSTAMP:20200319T060118Z
DTSTART:20200401T140000Z
DTEND:20200401T190000Z
SUMMARY:Mark Oakley Seminar
GEO:-27.467416;153.003675
LOCATION:St Francis College\, 233 Milton Rd\, Brisbane\, Australia
END:VEVENT
END:VCALENDAR
