BEGIN:VCALENDAR
VERSION:2.0
PRODID:-//Squarespace Inc/Squarespace 6//v6//EN
BEGIN:VEVENT
UID:5ea6223abaa1764004fa2b23@squarespace.com
DTSTAMP:20200427T000944Z
DTSTART:20200526T183000Z
DTEND:20200527T003000Z
SUMMARY:SFC Open On-line Day
GEO:-27.467416;153.003675
LOCATION:St Francis College\, 233 Milton Rd\, Brisbane\, Australia
END:VEVENT
END:VCALENDAR
