BEGIN:VCALENDAR
VERSION:2.0
PRODID:-//Squarespace Inc/Squarespace 6//v6//EN
BEGIN:VEVENT
UID:5ea636c17857f10853d66b67@squarespace.com
DTSTAMP:20200427T023156Z
DTSTART:20200505T230000Z
DTEND:20200506T000000Z
SUMMARY:Bible 360 Online - the next instalment
GEO:-27.467416;153.003675
LOCATION:St Francis College\, 233 Milton Rd\, Brisbane\, Australia
END:VEVENT
END:VCALENDAR
