BEGIN:VCALENDAR
VERSION:2.0
PRODID:-//Squarespace Inc/Squarespace 6//v6//EN
BEGIN:VEVENT
UID:5ee2fa897e95de5b159a6e1d@squarespace.com
DTSTAMP:20200629T033404Z
DTSTART:20200808T130000Z
DTEND:20200808T180000Z
SUMMARY:Dying to Know
GEO:-27.467416;153.003675
LOCATION:St Francis College\, 233 Milton Rd\, Brisbane\, Australia
END:VEVENT
END:VCALENDAR
