BEGIN:VCALENDAR
VERSION:2.0
PRODID:-//Squarespace Inc/Squarespace 6//v6//EN
BEGIN:VEVENT
UID:5f165500237e5771ad636030@squarespace.com
DTSTAMP:20200730T232120Z
DTSTART:20200907T230000Z
DTEND:20201020T010000Z
SUMMARY:Leadership Toolbox Workshops
GEO:-27.467416;153.003675
LOCATION:St Francis College\, 233 Milton Rd\, Brisbane\, Australia
END:VEVENT
END:VCALENDAR
