BEGIN:VCALENDAR
VERSION:2.0
PRODID:-//Squarespace Inc/Squarespace 6//v6//EN
BEGIN:VEVENT
UID:601353a6a0d7195b7bee8234@squarespace.com
DTSTAMP:20210129T002648Z
DTSTART:20210129T003000Z
DTEND:20210226T140000Z
SUMMARY:Enrol for Graduate Certificate in Ministry
GEO:-27.467416;153.003675
LOCATION:St Francis College\, 233 Milton Rd\, Brisbane\, Australia
END:VEVENT
END:VCALENDAR
