BEGIN:VCALENDAR
VERSION:2.0
PRODID:-//Squarespace Inc/Squarespace 6//v6//EN
BEGIN:VEVENT
UID:60135234c472393225b85dcb@squarespace.com
DTSTAMP:20210129T001525Z
DTSTART:20210129T003000Z
DTEND:20210226T140000Z
SUMMARY:Enrol for Semester 1 Subjects
GEO:-27.467416;153.003675
LOCATION:St Francis College\, 233 Milton Rd\, Brisbane\, Australia
END:VEVENT
END:VCALENDAR
