BEGIN:VCALENDAR
VERSION:2.0
PRODID:-//Squarespace Inc/Squarespace 6//v6//EN
BEGIN:VEVENT
UID:602b39cfd87cf2088816b5e9@squarespace.com
DTSTAMP:20210216T032148Z
DTSTART:20210223T200000Z
DTEND:20210223T220000Z
SUMMARY:Academic Writing Workshop
GEO:-27.467416;153.003675
LOCATION:St Francis College\, 233 Milton Rd\, Brisbane\, Australia
END:VEVENT
END:VCALENDAR
