BEGIN:VCALENDAR
VERSION:2.0
PRODID:-//Squarespace Inc/Squarespace 6//v6//EN
BEGIN:VEVENT
UID:602b39548d8bc021cb9621d6@squarespace.com
DTSTAMP:20210216T031939Z
DTSTART:20210223T230000Z
DTEND:20210224T010000Z
SUMMARY:St Francis College Orientation Evening
GEO:-27.467416;153.003675
LOCATION:St Francis College\, 233 Milton Rd\, Brisbane\, Australia
END:VEVENT
END:VCALENDAR
